BEGIN:VCALENDAR
VERSION:2.0
PRODID:-//Caught up in the Quincy - ECPv6.3.7//NONSGML v1.0//EN
CALSCALE:GREGORIAN
METHOD:PUBLISH
X-ORIGINAL-URL:https://caughtupintheq.com
X-WR-CALDESC:Events for Caught up in the Quincy
REFRESH-INTERVAL;VALUE=DURATION:PT1H
X-Robots-Tag:noindex
X-PUBLISHED-TTL:PT1H
BEGIN:VTIMEZONE
TZID:America/Halifax
BEGIN:DAYLIGHT
TZOFFSETFROM:-0400
TZOFFSETTO:-0300
TZNAME:ADT
DTSTART:20230312T060000
END:DAYLIGHT
BEGIN:STANDARD
TZOFFSETFROM:-0300
TZOFFSETTO:-0400
TZNAME:AST
DTSTART:20231105T050000
END:STANDARD
END:VTIMEZONE
BEGIN:VEVENT
DTSTART;TZID=America/Halifax:20230520T113000
DTEND;TZID=America/Halifax:20230520T143000
DTSTAMP:20260422T190122
CREATED:20230518T142919Z
LAST-MODIFIED:20230518T142920Z
UID:1625-1684582200-1684593000@caughtupintheq.com
SUMMARY:Dorothy Quincy Homestead Open House Tours
DESCRIPTION:Dorothy Quincy Homestead Tours \n34 Butler Road\, Quincy \nChildhood Home of Dorothy Quincy Hancock and home of John Hancock’s chariot. \nThe early seat of one of our Nation’s most influential families\, it is a remarkable example of American architectural and cultural history.
URL:https://caughtupintheq.com/event/dorothy-quincy-homestead-open-house-tours/
LOCATION:Quincy\, 554\, United States
CATEGORIES:Quincy Event
ATTACH;FMTTYPE=image/jpeg:https://caughtupintheq.com/wp-content/uploads/2023/05/Side-Board-Design-2.jpg
ORGANIZER;CN="Gary Jones":MAILTO:info@demo.com
END:VEVENT
END:VCALENDAR